BEGIN:VCALENDAR
VERSION:2.0
PRODID:-//AFFP - ECPv6.8.3//NONSGML v1.0//EN
CALSCALE:GREGORIAN
METHOD:PUBLISH
X-ORIGINAL-URL:https://femmespilotes.fr
X-WR-CALDESC:Évènements pour AFFP
REFRESH-INTERVAL;VALUE=DURATION:PT1H
X-Robots-Tag:noindex
X-PUBLISHED-TTL:PT1H
BEGIN:VTIMEZONE
TZID:Europe/Paris
BEGIN:DAYLIGHT
TZOFFSETFROM:+0100
TZOFFSETTO:+0200
TZNAME:CEST
DTSTART:20260329T010000
END:DAYLIGHT
BEGIN:STANDARD
TZOFFSETFROM:+0200
TZOFFSETTO:+0100
TZNAME:CET
DTSTART:20261025T010000
END:STANDARD
END:VTIMEZONE
BEGIN:VEVENT
DTSTART;VALUE=DATE:20260418
DTEND;VALUE=DATE:20260419
DTSTAMP:20260424T035921
CREATED:20251031T103959Z
LAST-MODIFIED:20251031T104155Z
UID:9473-1776470400-1776556799@femmespilotes.fr
SUMMARY:Rassemblement des Femmes de l'Air
DESCRIPTION:Fly-in sur l’aérodrome d’Angers avec notre marraine Maëlys Derick qui pilotera une réplique du Caudron C09 piloté par Maryse Bastié \nFilm et conférences au musée Espace Air Passion sur le pilotage des Caudron et l’histoire des Femmes Pilotes \n 
URL:https://femmespilotes.fr/event/rassemblement-des-femmes-de-lair-2/
LOCATION:aérodrome d’Angers\, Angers Loire Aéroport\, Marcé\, 49140\, France
CATEGORIES:conférences,expositions,Journée à thème,stand
ATTACH;FMTTYPE=image/jpeg:https://femmespilotes.fr/wp-content/uploads/2025/10/IMG_93AD87814FF0-1.jpeg
END:VEVENT
END:VCALENDAR