BEGIN:VCALENDAR
VERSION:2.0
PRODID:-//AFFP - ECPv6.8.3//NONSGML v1.0//EN
CALSCALE:GREGORIAN
METHOD:PUBLISH
X-WR-CALNAME:AFFP
X-ORIGINAL-URL:https://femmespilotes.fr
X-WR-CALDESC:Évènements pour AFFP
REFRESH-INTERVAL;VALUE=DURATION:PT1H
X-Robots-Tag:noindex
X-PUBLISHED-TTL:PT1H
BEGIN:VTIMEZONE
TZID:Europe/Paris
BEGIN:DAYLIGHT
TZOFFSETFROM:+0100
TZOFFSETTO:+0200
TZNAME:CEST
DTSTART:20250330T010000
END:DAYLIGHT
BEGIN:STANDARD
TZOFFSETFROM:+0200
TZOFFSETTO:+0100
TZNAME:CET
DTSTART:20251026T010000
END:STANDARD
END:VTIMEZONE
BEGIN:VEVENT
DTSTART;TZID=Europe/Paris:20251026T140000
DTEND;TZID=Europe/Paris:20251026T180000
DTSTAMP:20260424T160436
CREATED:20250929T154027Z
LAST-MODIFIED:20250929T154027Z
UID:9265-1761487200-1761501600@femmespilotes.fr
SUMMARY:Octobre Rose
DESCRIPTION:
URL:https://femmespilotes.fr/event/octobre-rose/
LOCATION:Aérodrome d’Abbeville\, Aérodrome d'Abbeville Buigny\, Buigny-Saint-Maclou\, 80132\, France
CATEGORIES:Journée à thème,Meeting aéronautique
ATTACH;FMTTYPE=image/png:https://femmespilotes.fr/wp-content/uploads/2025/09/Capture-decran-2025-09-29-a-17.38.26.png
END:VEVENT
END:VCALENDAR