BEGIN:VCALENDAR
VERSION:2.0
PRODID:-//AFFP - ECPv6.8.3//NONSGML v1.0//EN
CALSCALE:GREGORIAN
METHOD:PUBLISH
X-ORIGINAL-URL:https://femmespilotes.fr
X-WR-CALDESC:Évènements pour AFFP
REFRESH-INTERVAL;VALUE=DURATION:PT1H
X-Robots-Tag:noindex
X-PUBLISHED-TTL:PT1H
BEGIN:VTIMEZONE
TZID:Europe/Paris
BEGIN:DAYLIGHT
TZOFFSETFROM:+0100
TZOFFSETTO:+0200
TZNAME:CEST
DTSTART:20250330T010000
END:DAYLIGHT
BEGIN:STANDARD
TZOFFSETFROM:+0200
TZOFFSETTO:+0100
TZNAME:CET
DTSTART:20251026T010000
END:STANDARD
END:VTIMEZONE
BEGIN:VEVENT
DTSTART;TZID=Europe/Paris:20250705T100000
DTEND;TZID=Europe/Paris:20250706T180000
DTSTAMP:20260424T221817
CREATED:20250101T145720Z
LAST-MODIFIED:20250101T150015Z
UID:8620-1751709600-1751824800@femmespilotes.fr
SUMMARY:Des avions et des Ailes Roissy Meaux Airshow
DESCRIPTION:Venez nombreux voir le beau stand AFFP avec notre exposition sur l’histoire des femmes pilotes \nDes surprises et une soirée privée le samedi pour les adhérent•e•s!
URL:https://femmespilotes.fr/event/des-avions-et-des-ailes-roissy-meaux-airshow/
LOCATION:Aérodrome de Meaux\, aérodrome Meaux\, Isles-lès-Villenoy\, 77450\, France
CATEGORIES:Meeting aéronautique
ATTACH;FMTTYPE=image/png:https://femmespilotes.fr/wp-content/uploads/2025/01/image.png
END:VEVENT
END:VCALENDAR