BEGIN:VCALENDAR
VERSION:2.0
PRODID:-//AFFP - ECPv6.8.3//NONSGML v1.0//EN
CALSCALE:GREGORIAN
METHOD:PUBLISH
X-ORIGINAL-URL:https://femmespilotes.fr
X-WR-CALDESC:Évènements pour AFFP
REFRESH-INTERVAL;VALUE=DURATION:PT1H
X-Robots-Tag:noindex
X-PUBLISHED-TTL:PT1H
BEGIN:VTIMEZONE
TZID:Europe/Paris
BEGIN:DAYLIGHT
TZOFFSETFROM:+0100
TZOFFSETTO:+0200
TZNAME:CEST
DTSTART:20250330T010000
END:DAYLIGHT
BEGIN:STANDARD
TZOFFSETFROM:+0200
TZOFFSETTO:+0100
TZNAME:CET
DTSTART:20251026T010000
END:STANDARD
END:VTIMEZONE
BEGIN:VEVENT
DTSTART;TZID=Europe/Paris:20250307T190000
DTEND;TZID=Europe/Paris:20250307T203000
DTSTAMP:20260425T055214
CREATED:20250109T163426Z
LAST-MODIFIED:20250122T201318Z
UID:8643-1741374000-1741379400@femmespilotes.fr
SUMMARY:Conférence "Combats et succès des femmes pilotes depuis les débuts de l'aviation"
DESCRIPTION:Conférence à la salle de l’Auberge à Vert-le-Grand à 19H par Christine Debouzy \n  \n 
URL:https://femmespilotes.fr/event/conference-combats-et-succes-des-femmes-pilotes-depuis-les-debuts-de-laviation/
CATEGORIES:conférences,expositions,stand
ATTACH;FMTTYPE=image/png:https://femmespilotes.fr/wp-content/uploads/2025/01/Capture-decran-2025-01-09-a-17.30.06.png
END:VEVENT
END:VCALENDAR