BEGIN:VCALENDAR
VERSION:2.0
PRODID:-//AFFP - ECPv6.8.3//NONSGML v1.0//EN
CALSCALE:GREGORIAN
METHOD:PUBLISH
X-WR-CALNAME:AFFP
X-ORIGINAL-URL:https://femmespilotes.fr
X-WR-CALDESC:Évènements pour AFFP
REFRESH-INTERVAL;VALUE=DURATION:PT1H
X-Robots-Tag:noindex
X-PUBLISHED-TTL:PT1H
BEGIN:VTIMEZONE
TZID:Europe/Paris
BEGIN:DAYLIGHT
TZOFFSETFROM:+0100
TZOFFSETTO:+0200
TZNAME:CEST
DTSTART:20240331T010000
END:DAYLIGHT
BEGIN:STANDARD
TZOFFSETFROM:+0200
TZOFFSETTO:+0100
TZNAME:CET
DTSTART:20241027T010000
END:STANDARD
END:VTIMEZONE
BEGIN:VEVENT
DTSTART;TZID=Europe/Paris:20240922T090000
DTEND;TZID=Europe/Paris:20240922T170000
DTSTAMP:20260425T165404
CREATED:20240706T152038Z
LAST-MODIFIED:20240706T152039Z
UID:8017-1726995600-1727024400@femmespilotes.fr
SUMMARY:Santa Monica art fête les 100 ans du 1er tour du monde du Dakota
DESCRIPTION:Venez fêter cet évènement avec nous\, conférence “combats&successes of Women pilots in History of aviation” \nchristine Debouzy et Vanessa Gibson avec les femmes pilotes américaines
URL:https://femmespilotes.fr/event/santa-monica-art-fete-les-100-ans-du-1er-tour-du-monde-du-dakota/
LOCATION:Santa Monica airport\, 3223 Donald Douglas Loop S\, Santa Monica\, California\, 90405
CATEGORIES:Meeting aéronautique,stand
ATTACH;FMTTYPE=image/jpeg:https://femmespilotes.fr/wp-content/uploads/2024/07/b90ecac5-a172-43f0-81f2-28f2d73b967d.jpg
END:VEVENT
END:VCALENDAR