BEGIN:VCALENDAR
VERSION:2.0
PRODID:-//AFFP - ECPv6.8.3//NONSGML v1.0//EN
CALSCALE:GREGORIAN
METHOD:PUBLISH
X-WR-CALNAME:AFFP
X-ORIGINAL-URL:https://femmespilotes.fr
X-WR-CALDESC:Évènements pour AFFP
REFRESH-INTERVAL;VALUE=DURATION:PT1H
X-Robots-Tag:noindex
X-PUBLISHED-TTL:PT1H
BEGIN:VTIMEZONE
TZID:Europe/Paris
BEGIN:DAYLIGHT
TZOFFSETFROM:+0100
TZOFFSETTO:+0200
TZNAME:CEST
DTSTART:20250330T010000
END:DAYLIGHT
BEGIN:STANDARD
TZOFFSETFROM:+0200
TZOFFSETTO:+0100
TZNAME:CET
DTSTART:20251026T010000
END:STANDARD
END:VTIMEZONE
BEGIN:VEVENT
DTSTART;TZID=Europe/Paris:20250518T100000
DTEND;TZID=Europe/Paris:20250518T183000
DTSTAMP:20260424T234852
CREATED:20250122T200927Z
LAST-MODIFIED:20250122T200927Z
UID:8703-1747562400-1747593000@femmespilotes.fr
SUMMARY:stand AFFP pour un avion dans ma ville  d'Arras
DESCRIPTION:comme à chaque année vous pourrez admirer de beaux avions de collection et quelques femmes pilotes en Piper\, Criquet …
URL:https://femmespilotes.fr/event/stand-affp-pour-un-avion-dans-ma-ville-darras/
LOCATION:aérodrome d’Arras Roclincourt\, 1 chemin de blangy\, Saint-Laurent-Blangy\, 62223\, France
CATEGORIES:Meeting aéronautique,stand
ATTACH;FMTTYPE=image/jpeg:https://femmespilotes.fr/wp-content/uploads/2025/01/PHOTO-2025-01-22-18-17-59.jpg
END:VEVENT
END:VCALENDAR