BEGIN:VCALENDAR
VERSION:2.0
PRODID:-//AFFP - ECPv6.8.3//NONSGML v1.0//EN
CALSCALE:GREGORIAN
METHOD:PUBLISH
X-ORIGINAL-URL:https://femmespilotes.fr
X-WR-CALDESC:Évènements pour AFFP
REFRESH-INTERVAL;VALUE=DURATION:PT1H
X-Robots-Tag:noindex
X-PUBLISHED-TTL:PT1H
BEGIN:VTIMEZONE
TZID:Europe/Paris
BEGIN:DAYLIGHT
TZOFFSETFROM:+0100
TZOFFSETTO:+0200
TZNAME:CEST
DTSTART:20250330T010000
END:DAYLIGHT
BEGIN:STANDARD
TZOFFSETFROM:+0200
TZOFFSETTO:+0100
TZNAME:CET
DTSTART:20251026T010000
END:STANDARD
END:VTIMEZONE
BEGIN:VEVENT
DTSTART;TZID=Europe/Paris:20250405T100000
DTEND;TZID=Europe/Paris:20250405T183000
DTSTAMP:20260425T015856
CREATED:20250219T113521Z
LAST-MODIFIED:20250219T113521Z
UID:8881-1743847200-1743877800@femmespilotes.fr
SUMMARY:Fly-in en Normandie
DESCRIPTION:Venez nombreux et nombreuses pour cet évènement orienté aéronautique et spatial sur un terrain spécialisé dans les constructions amateures d’avions \nPiste en dur et grand parking pour les avions visiteurs\, stand AFFP
URL:https://femmespilotes.fr/event/fly-in-en-normandie/
LOCATION:aérodrome Mortagne au Perche\, aérodrome Mortagne au perche\, Saint-Langis-Lès-Mortagne\, 61400\, France
CATEGORIES:Journée à thème,stand
ATTACH;FMTTYPE=image/jpeg:https://femmespilotes.fr/wp-content/uploads/2025/02/PHOTO-2025-02-12-09-24-30.jpg
END:VEVENT
END:VCALENDAR