BEGIN:VCALENDAR
VERSION:2.0
PRODID:-//AFFP - ECPv6.8.3//NONSGML v1.0//EN
CALSCALE:GREGORIAN
METHOD:PUBLISH
X-WR-CALNAME:AFFP
X-ORIGINAL-URL:https://femmespilotes.fr
X-WR-CALDESC:Évènements pour AFFP
REFRESH-INTERVAL;VALUE=DURATION:PT1H
X-Robots-Tag:noindex
X-PUBLISHED-TTL:PT1H
BEGIN:VTIMEZONE
TZID:Europe/Paris
BEGIN:DAYLIGHT
TZOFFSETFROM:+0100
TZOFFSETTO:+0200
TZNAME:CEST
DTSTART:20240331T010000
END:DAYLIGHT
BEGIN:STANDARD
TZOFFSETFROM:+0200
TZOFFSETTO:+0100
TZNAME:CET
DTSTART:20241027T010000
END:STANDARD
END:VTIMEZONE
BEGIN:VEVENT
DTSTART;TZID=Europe/Paris:20240529T100000
DTEND;TZID=Europe/Paris:20240602T170000
DTSTAMP:20260425T212537
CREATED:20231227T182236Z
LAST-MODIFIED:20231227T182236Z
UID:6745-1716976800-1717347600@femmespilotes.fr
SUMMARY:Le Rêve d'Icare de Royan
DESCRIPTION:
URL:https://femmespilotes.fr/event/le-reve-dicare-de-royan/
CATEGORIES:conférences,expositions,Journée à thème,Meeting aéronautique,stand
ATTACH;FMTTYPE=image/png:https://femmespilotes.fr/wp-content/uploads/2023/12/Capture-decran-2023-12-27-a-19.12.37.png
END:VEVENT
BEGIN:VEVENT
DTSTART;TZID=Europe/Paris:20240601T100000
DTEND;TZID=Europe/Paris:20240602T180000
DTSTAMP:20260425T212537
CREATED:20240416T072139Z
LAST-MODIFIED:20240416T072139Z
UID:7462-1717236000-1717351200@femmespilotes.fr
SUMMARY:20.000 lieues dans les Airs\, stand AFFP
DESCRIPTION:Venez nous retrouver au stand AFFP sur cette magnifique fête avec notre marraine 2022 de l’évènement: Elodie MARIE
URL:https://femmespilotes.fr/event/20-000-lieues-dans-les-airs-stand-affp/
LOCATION:Aerodrome d’Amiens Glisy\, 29 rue Robur Le Conquerant\, Glisy\, 80440\, France
CATEGORIES:Meeting aéronautique,stand
ATTACH;FMTTYPE=image/png:https://femmespilotes.fr/wp-content/uploads/2024/04/Capture-decran-2024-04-16-a-09.13.05.png
END:VEVENT
BEGIN:VEVENT
DTSTART;TZID=Europe/Paris:20240616T103000
DTEND;TZID=Europe/Paris:20240616T190000
DTSTAMP:20260425T212537
CREATED:20240122T213050Z
LAST-MODIFIED:20240530T102050Z
UID:6903-1718533800-1718564400@femmespilotes.fr
SUMMARY:Stand AFFP au village de l'aviation de Yermenonville
DESCRIPTION:
URL:https://femmespilotes.fr/event/stand-affp-au-village-de-laviation-de-yermenonville/
LOCATION:musée Hélène Boucher\, 2 rue de Gallardon\, Yermenonville\, 28130\, France
CATEGORIES:Journée à thème,stand
ATTACH;FMTTYPE=image/jpeg:https://femmespilotes.fr/wp-content/uploads/2024/01/image0.jpeg
END:VEVENT
END:VCALENDAR