BEGIN:VCALENDAR
VERSION:2.0
PRODID:-//AFFP - ECPv6.8.3//NONSGML v1.0//EN
CALSCALE:GREGORIAN
METHOD:PUBLISH
X-WR-CALNAME:AFFP
X-ORIGINAL-URL:https://femmespilotes.fr
X-WR-CALDESC:Évènements pour AFFP
REFRESH-INTERVAL;VALUE=DURATION:PT1H
X-Robots-Tag:noindex
X-PUBLISHED-TTL:PT1H
BEGIN:VTIMEZONE
TZID:Europe/Paris
BEGIN:DAYLIGHT
TZOFFSETFROM:+0100
TZOFFSETTO:+0200
TZNAME:CEST
DTSTART:20260329T010000
END:DAYLIGHT
BEGIN:STANDARD
TZOFFSETFROM:+0200
TZOFFSETTO:+0100
TZNAME:CET
DTSTART:20261025T010000
END:STANDARD
END:VTIMEZONE
BEGIN:VEVENT
DTSTART;TZID=Europe/Paris:20260207T100000
DTEND;TZID=Europe/Paris:20260920T170000
DTSTAMP:20260424T020946
CREATED:20260211T190026Z
LAST-MODIFIED:20260211T190145Z
UID:9710-1770458400-1789923600@femmespilotes.fr
SUMMARY:Exposition "Ailes contre Elles"
DESCRIPTION:Au Musée Européen de l’Aviation de Chasse de Montélmimar\, vous pouvez voir l’exposition  “Ailes contre Elles”
URL:https://femmespilotes.fr/event/exposition-ailes-contre-elles/
LOCATION:musée Européen de l’Aviation de Chasse\, aérodrome\, Montélimar\, 26200\, France
CATEGORIES:expositions
ATTACH;FMTTYPE=image/png:https://femmespilotes.fr/wp-content/uploads/2026/02/Capture-decran-2026-02-11-a-19.57.18.png
END:VEVENT
BEGIN:VEVENT
DTSTART;TZID=Europe/Paris:20260424T190000
DTEND;TZID=Europe/Paris:20260424T220000
DTSTAMP:20260424T020946
CREATED:20260224T115245Z
LAST-MODIFIED:20260224T115358Z
UID:9872-1777057200-1777068000@femmespilotes.fr
SUMMARY:Conférence "Marie\, la fiancée du danger" par Alain De Libero
DESCRIPTION:Venez pour cette super soirée\, écouter notre spécialiste de Marie Marvingt: Alain de Libero\, membre de notre commission Histoire\, auteur de “Marie Marvingt” dans la série “Les pionnières du ciel. Martine Gay\, autrice d’un livre sur Marie Marvingt\, complètera son exposé.
URL:https://femmespilotes.fr/event/conference-marie-la-fiancee-du-danger-par-alain-de-libero/
LOCATION:Aéro-Club de France\, 6 rue Galilée\, Paris\, 75116\, France
CATEGORIES:conférences
ATTACH;FMTTYPE=image/png:https://femmespilotes.fr/wp-content/uploads/2024/01/marie-marvingt-couleur.png
END:VEVENT
END:VCALENDAR